BEGIN:VCALENDAR
VERSION:2.0
PRODID:-//Washington Contract Firefighters Association - ECPv4.8.1//NONSGML v1.0//EN
CALSCALE:GREGORIAN
METHOD:PUBLISH
X-WR-CALNAME:Washington Contract Firefighters Association
X-ORIGINAL-URL:https://www.wcfafirefighters.org
X-WR-CALDESC:Events for Washington Contract Firefighters Association
BEGIN:VEVENT
DTSTART;TZID=America/Los_Angeles:20180519T080000
DTEND;TZID=America/Los_Angeles:20180519T170000
DTSTAMP:20260422T082245
CREATED:20180210T090000Z
LAST-MODIFIED:20180606T011926Z
UID:90604-1526716800-1526749200@www.wcfafirefighters.org
SUMMARY:S-212 Power Saws Comm. Covenant Church\, 710 Hwy 20 N\, Twisp\, WA - Day 2 of 3
DESCRIPTION:Wildland Power Saw Training. Deadline for sign-ups is MAY 11th in order to have time to complete pre-course work. **THIRD DAY OF CLASS LOCATION WILL BE DECIDED BY INSTRUCTOR** Bring\,leather boots\, chainsaw\, saw chaps\, gloves\, helmet\,eye protection and a warm coat. For pre-course reading\, copy and paste this address into your browser – http://onlinetraining.nwcg.gov/node/194. BRING A SACK LUNCH FOR THIRD DAY.Sign up for class!Location: Comm. Covenant Church\, 710 Hwy 20 N\, Twisp\, WAClick here to pay for classesInstructor: Charlie CurtisContact Name : Danielle SimsContact Phone : 425-239-6613Contact Email : dsimswcfa@yahoo.com \n
URL:https://www.wcfafirefighters.org/event/S-212-Power-Saws-760-2/
CATEGORIES:Training
END:VEVENT
END:VCALENDAR