BEGIN:VCALENDAR
VERSION:2.0
PRODID:-//Washington Contract Firefighters Association - ECPv4.8.1//NONSGML v1.0//EN
CALSCALE:GREGORIAN
METHOD:PUBLISH
X-WR-CALNAME:Washington Contract Firefighters Association
X-ORIGINAL-URL:https://www.wcfafirefighters.org
X-WR-CALDESC:Events for Washington Contract Firefighters Association
BEGIN:VEVENT
DTSTART;TZID=America/Los_Angeles:20180309T080000
DTEND;TZID=America/Los_Angeles:20180309T170000
DTSTAMP:20260422T052930
CREATED:20180223T230103Z
LAST-MODIFIED:20180606T011927Z
UID:90658-1520582400-1520614800@www.wcfafirefighters.org
SUMMARY:S-212 Power Saws WA DNR - 1002 E. Crawford Rd. Deer Park\, WA - Day 1 of 3
DESCRIPTION:The classroom portion of the S-212 class will be held March 9th and 10th in Deer Park at the WA Department of Natural Resources work center. There is a sign on the gate that reads â€œnot open to the publicâ€!  We will be in the SE building.  \nField Day will be announced in class. Be sure to bring proper gear to the field day\, leather boots\, chainsaw\, saw chaps\, gloves\, helmet\,eye protection and a warm coat. Full PPE REQUIRED. For pre-course reading\, copy and paste this address into your browser – http://onlinetraining.nwcg.gov/node/194.Sign up for class!Location: WA DNR – 1002 E. Crawford Rd. Deer Park\, WAClick here to pay for classesInstructor: Don StragisContact Name : Danielle SimsContact Phone : 425-239-6613Contact Email : dsimswcfa@yahoo.com \n
URL:https://www.wcfafirefighters.org/event/S-212-Power-Saws-788-1/
CATEGORIES:Training
END:VEVENT
END:VCALENDAR