BEGIN:VCALENDAR
VERSION:2.0
PRODID:-//Washington Contract Firefighters Association - ECPv4.8.1//NONSGML v1.0//EN
CALSCALE:GREGORIAN
METHOD:PUBLISH
X-WR-CALNAME:Washington Contract Firefighters Association
X-ORIGINAL-URL:https://www.wcfafirefighters.org
X-WR-CALDESC:Events for Washington Contract Firefighters Association
BEGIN:VEVENT
DTSTART;TZID=America/Los_Angeles:20190509T080000
DTEND;TZID=America/Los_Angeles:20190509T170000
DTSTAMP:20260422T100145
CREATED:20190221T040103Z
LAST-MODIFIED:20200101T070103Z
UID:90892-1557388800-1557421200@www.wcfafirefighters.org
SUMMARY:S-212 Power Saws Rains Trout Farm\, 122 Hunter Mt. Rd.\,  Pateros\, WA - Day 1 of 3
DESCRIPTION:This is a 3 day course. Deadline for sign-ups is April 25th to complete pre-course work. Bring leather boots\, chainsaw\, saw chaps\, gloves\, helmet\,eye protection and a warm coat.Full PPE REQUIRED and bring taskbook. For pre-course reading copy and paste this address into your browser – https://onlinetraining.nwcg.gov/node/194 – Location is 1.5 miles up Hunter Mt.Rd.- 1st driveway to the right. If you are going up Hwy 153 we are 7 miles up\, take a left on Hunter Mt. Road \, if they are coming down Hwy 153 it is approx. 2 miles past the town of Methow and you take a right. Light Snack in the morning. Grill and BBQ available for campers.  Lunch provided the last day. If you wish to camp please contact Dave or Barb at 509-322-1611.Sign up for class!Location: Rains Trout Farm\, 122 Hunter Mt. Rd.\,  Pateros\, WAClick here to pay for classesInstructor: Dave RainsContact Name : Danielle SimsContact Phone : 425-239-6613Contact Email : dsimswcfa@yahoo.com \n
URL:https://www.wcfafirefighters.org/event/S-212-Power-Saws-888-1/
CATEGORIES:Training
END:VEVENT
END:VCALENDAR