BEGIN:VCALENDAR
VERSION:2.0
PRODID:-//Washington Contract Firefighters Association - ECPv4.8.1//NONSGML v1.0//EN
CALSCALE:GREGORIAN
METHOD:PUBLISH
X-WR-CALNAME:Washington Contract Firefighters Association
X-ORIGINAL-URL:https://www.wcfafirefighters.org
X-WR-CALDESC:Events for Washington Contract Firefighters Association
BEGIN:VEVENT
DTSTART;TZID=America/Los_Angeles:20190608T080000
DTEND;TZID=America/Los_Angeles:20190608T170000
DTSTAMP:20260422T022000
CREATED:20190326T220103Z
LAST-MODIFIED:20200101T070103Z
UID:90909-1559980800-1560013200@www.wcfafirefighters.org
SUMMARY:S-212 Power Saws WFS 3505 1/2 Fruitvale Blvd\,\, Yakima - Day 2 of 3
DESCRIPTION:This is a 3 day course. Deadline for sign-ups is May 23rd to complete pre-course work. Bring leather boots\, chainsaw\, saw chaps\, gloves\, helmet\,eye protection and a coat. Full PPE REQUIRED and bring taskbook. For pre-course reading copy and paste this address into your browser – https://onlinetraining.nwcg.gov/node/194Sign up for class!Location: WFS 3505 1/2 Fruitvale Blvd\,\, YakimaClick here to pay for classesInstructor: Greg BaileyContact Name : Danielle SimsContact Phone : 425-239-6613Contact Email : dsimswcfa@yahoo.com \n
URL:https://www.wcfafirefighters.org/event/S-212-Power-Saws-893-2/
CATEGORIES:Training
END:VEVENT
END:VCALENDAR