BEGIN:VCALENDAR
VERSION:2.0
PRODID:-//Washington Contract Firefighters Association - ECPv4.8.1//NONSGML v1.0//EN
CALSCALE:GREGORIAN
METHOD:PUBLISH
X-WR-CALNAME:Washington Contract Firefighters Association
X-ORIGINAL-URL:https://www.wcfafirefighters.org
X-WR-CALDESC:Events for Washington Contract Firefighters Association
BEGIN:VEVENT
DTSTART;TZID=America/Los_Angeles:20240607T090000
DTEND;TZID=America/Los_Angeles:20240607T163000
DTSTAMP:20260423T080812
CREATED:20240606T020104Z
LAST-MODIFIED:20250101T070106Z
UID:92364-1717750800-1717777800@www.wcfafirefighters.org
SUMMARY:S-219 Firing Operations Malaga St. 17\, 3760 W Malaga Rd\, WA. - Day 1 of 3
DESCRIPTION:This course was developed using a blended approach to learning. Students are required to complete the online training portion of the course prior to taking the ILT. The course introduces the roles and responsibilities of a Firing Boss\, Single Resource (FIRB)\, and outlines duties of other personnel who may engage firing operations. The course discusses and illustrates common firing devices and techniques. Although comprehensive in nature\, the course work is not a substitute for the dynamic fire environment. The course provides students with important information regarding general tasks required to be successful. Any opportunity to show students a real ignition or demonstrate the use of an actual firing device will assist in transferring these new concepts and skills to the job. There is a field day outlined in the course\, it is the discretion of the delivery unit to include the field day\, if logistically feasible.Sign up for class!Location: Malaga St. 17\, 3760 W Malaga Rd\, WA.Click here to pay for classesInstructor: Sami SchinnellContact Name : Danielle SimsContact Phone : 425-239-6613Contact Email : dsimswcfa@yahoo.com \n
URL:https://www.wcfafirefighters.org/event/S-219-Firing-Operations-1340-1/
CATEGORIES:Training
END:VEVENT
END:VCALENDAR