BEGIN:VCALENDAR
VERSION:2.0
PRODID:-//Washington Contract Firefighters Association - ECPv4.8.1//NONSGML v1.0//EN
CALSCALE:GREGORIAN
METHOD:PUBLISH
X-WR-CALNAME:Washington Contract Firefighters Association
X-ORIGINAL-URL:https://www.wcfafirefighters.org
X-WR-CALDESC:Events for Washington Contract Firefighters Association
BEGIN:VEVENT
DTSTART;TZID=America/Los_Angeles:20160601T083000
DTEND;TZID=America/Los_Angeles:20160601T173000
DTSTAMP:20260422T123136
CREATED:20160914T080000Z
LAST-MODIFIED:20161231T090000Z
UID:1196-1464769800-1464802200@www.wcfafirefighters.org
SUMMARY:S-230 Crew Boss Blended Classroom Community Covenant Church\, 710 Hwy 20 N\, Twisp
DESCRIPTION:Classroom portion of the S-230 online course.  S-230 course certificate required for entrance into the class.Sign up for class!Location: Community Covenant Church\, 710 Hwy 20 N\, TwispClick here to pay for classesContact: Don Strand \n
URL:https://www.wcfafirefighters.org/event/S-230-Crew-Boss-Blended-Classroom-666-1/
CATEGORIES:Training
END:VEVENT
END:VCALENDAR