BEGIN:VCALENDAR
VERSION:2.0
PRODID:-//Washington Contract Firefighters Association - ECPv4.8.1//NONSGML v1.0//EN
CALSCALE:GREGORIAN
METHOD:PUBLISH
X-WR-CALNAME:Washington Contract Firefighters Association
X-ORIGINAL-URL:https://www.wcfafirefighters.org
X-WR-CALDESC:Events for Washington Contract Firefighters Association
BEGIN:VEVENT
DTSTART;TZID=America/Los_Angeles:20160423T080000
DTEND;TZID=America/Los_Angeles:20160423T170000
DTSTAMP:20260422T140303
CREATED:20160301T090000Z
LAST-MODIFIED:20161231T090000Z
UID:758-1461398400-1461430800@www.wcfafirefighters.org
SUMMARY:S-290 Intermediate Fire Behavior Rains Trout Farm\, 122 Squaw Creek Road\, Pateros - Day 1 of 4
DESCRIPTION:Class includes a morning snack\, coffee and water – **BRING A SACK LUNCH** Location is 1.5 miles up Squaw Creek Rd.- 1st driveway to the right. If you are going up the Methow we are 7 miles up and take a left on Squaw creek \, if they are coming down the Methow Hiway it is approx. 2 miles past the town of Methow and you take a right. This is a classroom-based skills course designed to prepare the prospective fireline supervisor to undertake safe and effective fire management operations. Prerequisites: S-190\, Satisfactory completion of pre-selection assessment\, Satisfactory completion of pre-course work. Pre-Course work will be emailed to all employers to be distributed to their students.  Questions?? Call Instructor at 509-680-4310 or Training Coordinator at 425-239-6613.Sign up for class!Location: Rains Trout Farm\, 122 Squaw Creek Road\, PaterosClick here to pay for classesContact: Don Strand \n
URL:https://www.wcfafirefighters.org/event/S-290-Intermediate-Fire-Behavior-608-1/
CATEGORIES:Training
END:VEVENT
END:VCALENDAR