BEGIN:VCALENDAR
VERSION:2.0
PRODID:-//Washington Contract Firefighters Association - ECPv4.8.1//NONSGML v1.0//EN
CALSCALE:GREGORIAN
METHOD:PUBLISH
X-WR-CALNAME:Washington Contract Firefighters Association
X-ORIGINAL-URL:https://www.wcfafirefighters.org
X-WR-CALDESC:Events for Washington Contract Firefighters Association
BEGIN:VEVENT
DTSTART;TZID=America/Los_Angeles:20170422T080000
DTEND;TZID=America/Los_Angeles:20170422T170000
DTSTAMP:20260423T091522
CREATED:20171231T090000Z
LAST-MODIFIED:20171231T090000Z
UID:79110-1492848000-1492880400@www.wcfafirefighters.org
SUMMARY:S-290 Intermediate Fire Behavior Brothers Fire Shop\, 204 Industrial Ave. Twisp - Day 1 of 4
DESCRIPTION:This is a classroom-based skills course designed to prepare the prospective fireline supervisor to undertake safe and effective fire management operations. Prerequisites: S-190\, Satisfactory completion of pre-selection assessment\, Satisfactory completion of pre-course work. Pre-Course https://onlinetraining.nwcg.gov/node/200. Questions?? Call Instructor at 509-680-4310 or Training Coordinator at 425-239-6613.Sign up for class!Location: Brothers Fire Shop\, 204 Industrial Ave. TwispClick here to pay for classesContact: Don Strand \n
URL:https://www.wcfafirefighters.org/event/S-290-Intermediate-Fire-Behavior-693-1/
CATEGORIES:Training
END:VEVENT
END:VCALENDAR