BEGIN:VCALENDAR
VERSION:2.0
PRODID:-//Washington Contract Firefighters Association - ECPv4.8.1//NONSGML v1.0//EN
CALSCALE:GREGORIAN
METHOD:PUBLISH
X-WR-CALNAME:Washington Contract Firefighters Association
X-ORIGINAL-URL:https://www.wcfafirefighters.org
X-WR-CALDESC:Events for Washington Contract Firefighters Association
BEGIN:VEVENT
DTSTART;TZID=America/Los_Angeles:20180421T080000
DTEND;TZID=America/Los_Angeles:20180421T170000
DTSTAMP:20260423T032708
CREATED:20180210T090000Z
LAST-MODIFIED:20180606T011927Z
UID:90639-1524297600-1524330000@www.wcfafirefighters.org
SUMMARY:S-290 Intermediate Fire Behavior Brothers Fire Shop\, 204 Industrial Ave\, Twisp - Day 3 of 4
DESCRIPTION: This is a classroom-based skills course designed to prepare the prospective fireline supervisor to undertake safe and effective fire management operations. Prerequisites: S-190\, Satisfactory completion of pre-selection assessment\, Satisfactory completion of pre-course work. Pre-Course https://onlinetraining.nwcg.gov/node/200. Questions?? Call Instructor at 509-680-4310 or Training Coordinator at 425-239-6613.Sign up for class!Location: Brothers Fire Shop\, 204 Industrial Ave\, TwispClick here to pay for classesInstructor: Don StrandContact Name : Danielle SimsContact Phone : 425-239-6613Contact Email : dsimswcfa@yahoo.com \n
URL:https://www.wcfafirefighters.org/event/S-290-Intermediate-Fire-Behavior-780-3/
CATEGORIES:Training
END:VEVENT
END:VCALENDAR