BEGIN:VCALENDAR
VERSION:2.0
PRODID:-//Washington Contract Firefighters Association - ECPv4.8.1//NONSGML v1.0//EN
CALSCALE:GREGORIAN
METHOD:PUBLISH
X-WR-CALNAME:Washington Contract Firefighters Association
X-ORIGINAL-URL:https://www.wcfafirefighters.org
X-WR-CALDESC:Events for Washington Contract Firefighters Association
BEGIN:VEVENT
DTSTART;TZID=America/Los_Angeles:20190427T080000
DTEND;TZID=America/Los_Angeles:20190427T170000
DTSTAMP:20260421T211723
CREATED:20190221T030102Z
LAST-MODIFIED:20200101T070102Z
UID:90885-1556352000-1556384400@www.wcfafirefighters.org
SUMMARY:S-290 Intermediate Fire Behavior Lifeline Ambulance 518 N. Wenatchee Ave\, Wenatchee - Day 1 of 4
DESCRIPTION:This is a classroom-based skills course designed to prepare the prospective fireline supervisor to undertake safe and effective fire management operations. Prerequisites: S-190\, Satisfactory completion of pre-selection assessment\, Satisfactory completion of pre-course work. Pre-Course https://onlinetraining.nwcg.gov/node/200. Questions?? Pre-Course work must be complete by April 19th. Call Instructor at 509-680-4310.Contact Danielle with student contact information if you need assistance in getting the pre-course work to them.Sign up for class!Location: Lifeline Ambulance 518 N. Wenatchee Ave\, WenatcheeClick here to pay for classesInstructor: Don StrandContact Name : Danielle SimsContact Phone : 425-239-6613Contact Email : dsimswcfa@yahoo.com \n
URL:https://www.wcfafirefighters.org/event/S-290-Intermediate-Fire-Behavior-886-1/
CATEGORIES:Training
END:VEVENT
END:VCALENDAR