BEGIN:VCALENDAR
VERSION:2.0
PRODID:-//Washington Contract Firefighters Association - ECPv4.8.1//NONSGML v1.0//EN
CALSCALE:GREGORIAN
METHOD:PUBLISH
X-WR-CALNAME:Washington Contract Firefighters Association
X-ORIGINAL-URL:https://www.wcfafirefighters.org
X-WR-CALDESC:Events for Washington Contract Firefighters Association
BEGIN:VEVENT
DTSTART;TZID=America/Los_Angeles:20180205T180000
DTEND;TZID=America/Los_Angeles:20180205T200000
DTSTAMP:20260422T035936
CREATED:20180131T223253Z
LAST-MODIFIED:20180131T223254Z
UID:84902-1517853600-1517860800@www.wcfafirefighters.org
SUMMARY:Public Vendor Meeting PNW FACT
DESCRIPTION:The Pacific Northwest Fire and Aviation Contracting Team (FACT) along with representatives from the Oregon Dept. of Forestry (ODF)\, Washington Dept. of Natural Resources (DNR) and Northwest Coordination Center will be hosting public meetings to discuss fire contracting for the upcoming 2018 fire season. \nFebruary 5\, 2018\n6:00 – 8:00 pm\nConfluence Technology Center\n285 Technology Center Way\nWenatchee\, WA 98801 \n
URL:https://www.wcfafirefighters.org/event/public-vendor-meeting-pnw-fact/
LOCATION:Confluence Technology Center\, 285 Technology Center Way\, Wenatchee\, WA\, 98801\, United States
CATEGORIES:Other Events
END:VEVENT
END:VCALENDAR