BEGIN:VCALENDAR
VERSION:2.0
PRODID:-//Washington Contract Firefighters Association - ECPv4.8.1//NONSGML v1.0//EN
CALSCALE:GREGORIAN
METHOD:PUBLISH
X-WR-CALNAME:Washington Contract Firefighters Association
X-ORIGINAL-URL:https://www.wcfafirefighters.org
X-WR-CALDESC:Events for Washington Contract Firefighters Association
BEGIN:VEVENT
DTSTART;TZID=America/Los_Angeles:20170206T180000
DTEND;TZID=America/Los_Angeles:20170206T200000
DTSTAMP:20260422T080058
CREATED:20170130T185743Z
LAST-MODIFIED:20170130T191812Z
UID:1314-1486404000-1486411200@www.wcfafirefighters.org
SUMMARY:US Forest Service Vendor Meeting Wenatchee
DESCRIPTION:This is an opportunity to meet representatives from US Forest Service\, Oregon Department of Forestry (ODF) and Washington Department of Natural Resources (DNR) concerning issues or recommendations that affect the fire contracting community.  Representatives will provide information for current and prospective contractors for the 2017 fire season. \n
URL:https://www.wcfafirefighters.org/event/us-forest-service-vendor-meeting-wenatchee/
CATEGORIES:Training
END:VEVENT
END:VCALENDAR