BEGIN:VCALENDAR
VERSION:2.0
PRODID:-//Washington Contract Firefighters Association - ECPv4.8.1//NONSGML v1.0//EN
CALSCALE:GREGORIAN
METHOD:PUBLISH
X-WR-CALNAME:Washington Contract Firefighters Association
X-ORIGINAL-URL:https://www.wcfafirefighters.org
X-WR-CALDESC:Events for Washington Contract Firefighters Association
BEGIN:VEVENT
DTSTART;TZID=America/Los_Angeles:20190518T120000
DTEND;TZID=America/Los_Angeles:20190518T180000
DTSTAMP:20260422T004432
CREATED:20190205T192445Z
LAST-MODIFIED:20190205T192536Z
UID:90857-1558180800-1558202400@www.wcfafirefighters.org
SUMMARY:WCFA Spring Business Meeting
DESCRIPTION:Spring Business meetings\, lunch\, information seminars\, door prizes.  See you there. \n
URL:https://www.wcfafirefighters.org/event/wcfa-spring-business-meeting/
LOCATION:Chelan Fire District #1\, Station 11\, 206 Easy Street\, Wenatchee\, 98801\, United States
ORGANIZER;CN="Danielle%20Sims":MAILTO:dsimswcfa@yahoo.com
END:VEVENT
END:VCALENDAR